BEGIN:VCALENDAR
VERSION:2.0
PRODID:-//Arise Church Atlanta - ECPv6.15.20//NONSGML v1.0//EN
CALSCALE:GREGORIAN
METHOD:PUBLISH
X-WR-CALNAME:Arise Church Atlanta
X-ORIGINAL-URL:https://arisechurchatl.com
X-WR-CALDESC:Events for Arise Church Atlanta
REFRESH-INTERVAL;VALUE=DURATION:PT1H
X-Robots-Tag:noindex
X-PUBLISHED-TTL:PT1H
BEGIN:VTIMEZONE
TZID:America/New_York
BEGIN:DAYLIGHT
TZOFFSETFROM:-0500
TZOFFSETTO:-0400
TZNAME:EDT
DTSTART:20220313T070000
END:DAYLIGHT
BEGIN:STANDARD
TZOFFSETFROM:-0400
TZOFFSETTO:-0500
TZNAME:EST
DTSTART:20221106T060000
END:STANDARD
BEGIN:DAYLIGHT
TZOFFSETFROM:-0500
TZOFFSETTO:-0400
TZNAME:EDT
DTSTART:20230312T070000
END:DAYLIGHT
BEGIN:STANDARD
TZOFFSETFROM:-0400
TZOFFSETTO:-0500
TZNAME:EST
DTSTART:20231105T060000
END:STANDARD
BEGIN:DAYLIGHT
TZOFFSETFROM:-0500
TZOFFSETTO:-0400
TZNAME:EDT
DTSTART:20240310T070000
END:DAYLIGHT
BEGIN:STANDARD
TZOFFSETFROM:-0400
TZOFFSETTO:-0500
TZNAME:EST
DTSTART:20241103T060000
END:STANDARD
END:VTIMEZONE
BEGIN:VEVENT
DTSTART;TZID=America/New_York:20230917T090000
DTEND;TZID=America/New_York:20230917T100000
DTSTAMP:20260423T121611
CREATED:20230908T003342Z
LAST-MODIFIED:20230908T003342Z
UID:2261-1694941200-1694944800@arisechurchatl.com
SUMMARY:Arise Church of Atlanta Hunger and Thirst Service
DESCRIPTION:Join us every 3rd Sunday of the month for a Holy Ghost Experience. \nAs the presence of God meets us\, souls are being saved\, delivered\, filled and refilled with the Holy Spirit.
URL:https://arisechurchatl.com/event/arise-church-of-atlanta-hunger-and-thirst-service/
CATEGORIES:Special Sunday Service
ATTACH;FMTTYPE=image/jpeg:https://arisechurchatl.com/wp-content/uploads/2023/09/Hunger-and-Thirst-Sept.jpg
END:VEVENT
END:VCALENDAR