BEGIN:VCALENDAR
VERSION:2.0
PRODID:-//Arise Church Atlanta - ECPv6.15.20//NONSGML v1.0//EN
CALSCALE:GREGORIAN
METHOD:PUBLISH
X-ORIGINAL-URL:https://arisechurchatl.com
X-WR-CALDESC:Events for Arise Church Atlanta
REFRESH-INTERVAL;VALUE=DURATION:PT1H
X-Robots-Tag:noindex
X-PUBLISHED-TTL:PT1H
BEGIN:VTIMEZONE
TZID:America/New_York
BEGIN:DAYLIGHT
TZOFFSETFROM:-0500
TZOFFSETTO:-0400
TZNAME:EDT
DTSTART:20240310T070000
END:DAYLIGHT
BEGIN:STANDARD
TZOFFSETFROM:-0400
TZOFFSETTO:-0500
TZNAME:EST
DTSTART:20241103T060000
END:STANDARD
BEGIN:DAYLIGHT
TZOFFSETFROM:-0500
TZOFFSETTO:-0400
TZNAME:EDT
DTSTART:20250309T070000
END:DAYLIGHT
BEGIN:STANDARD
TZOFFSETFROM:-0400
TZOFFSETTO:-0500
TZNAME:EST
DTSTART:20251102T060000
END:STANDARD
BEGIN:DAYLIGHT
TZOFFSETFROM:-0500
TZOFFSETTO:-0400
TZNAME:EDT
DTSTART:20260308T070000
END:DAYLIGHT
BEGIN:STANDARD
TZOFFSETFROM:-0400
TZOFFSETTO:-0500
TZNAME:EST
DTSTART:20261101T060000
END:STANDARD
END:VTIMEZONE
BEGIN:VEVENT
DTSTART;TZID=America/New_York:20250511T100000
DTEND;TZID=America/New_York:20250511T120000
DTSTAMP:20260422T051256
CREATED:20250426T185909Z
LAST-MODIFIED:20250426T191806Z
UID:2508-1746957600-1746964800@arisechurchatl.com
SUMMARY:2025 MOTHER'S DAY CELEBRATION
DESCRIPTION:
URL:https://arisechurchatl.com/event/2025-mothers-day-celebration/
CATEGORIES:Special Sunday Service
ATTACH;FMTTYPE=image/jpeg:https://arisechurchatl.com/wp-content/uploads/2025/04/MOTHERS-DAY-2025-Worship.jpg
END:VEVENT
END:VCALENDAR