BEGIN:VCALENDAR
VERSION:2.0
PRODID:-//Arise Church Atlanta - ECPv6.15.20//NONSGML v1.0//EN
CALSCALE:GREGORIAN
METHOD:PUBLISH
X-WR-CALNAME:Arise Church Atlanta
X-ORIGINAL-URL:https://arisechurchatl.com
X-WR-CALDESC:Events for Arise Church Atlanta
REFRESH-INTERVAL;VALUE=DURATION:PT1H
X-Robots-Tag:noindex
X-PUBLISHED-TTL:PT1H
BEGIN:VTIMEZONE
TZID:America/New_York
BEGIN:DAYLIGHT
TZOFFSETFROM:-0500
TZOFFSETTO:-0400
TZNAME:EDT
DTSTART:20220313T070000
END:DAYLIGHT
BEGIN:STANDARD
TZOFFSETFROM:-0400
TZOFFSETTO:-0500
TZNAME:EST
DTSTART:20221106T060000
END:STANDARD
BEGIN:DAYLIGHT
TZOFFSETFROM:-0500
TZOFFSETTO:-0400
TZNAME:EDT
DTSTART:20230312T070000
END:DAYLIGHT
BEGIN:STANDARD
TZOFFSETFROM:-0400
TZOFFSETTO:-0500
TZNAME:EST
DTSTART:20231105T060000
END:STANDARD
BEGIN:DAYLIGHT
TZOFFSETFROM:-0500
TZOFFSETTO:-0400
TZNAME:EDT
DTSTART:20240310T070000
END:DAYLIGHT
BEGIN:STANDARD
TZOFFSETFROM:-0400
TZOFFSETTO:-0500
TZNAME:EST
DTSTART:20241103T060000
END:STANDARD
END:VTIMEZONE
BEGIN:VEVENT
DTSTART;TZID=America/New_York:20230702T120000
DTEND;TZID=America/New_York:20230730T125000
DTSTAMP:20260419T190157
CREATED:20230629T220826Z
LAST-MODIFIED:20230707T173511Z
UID:2187-1688299200-1690721400@arisechurchatl.com
SUMMARY:PENTECOST IMPACT EVANGELISM Acts 2:2
DESCRIPTION:Evangelism and Sharing the Love of Jesus Christ in the community. \nCome out and be a part of this great move of God!
URL:https://arisechurchatl.com/event/p-i-e-pentecost-impact-evangelism/
LOCATION:Arise Church Atlanta\, 2636 Fairburn Rd SW\, Atlanta\, GA\, 30331\, United States
CATEGORIES:Outreach
ATTACH;FMTTYPE=image/jpeg:https://arisechurchatl.com/wp-content/uploads/2023/06/Pentecost-IMPACT.jpg
ORGANIZER;CN="Arise Church Admin":MAILTO:specialevents@arisechurchatl.com
END:VEVENT
BEGIN:VEVENT
DTSTART;TZID=America/New_York:20230603T100000
DTEND;TZID=America/New_York:20230603T120000
DTSTAMP:20260419T190157
CREATED:20230531T161702Z
LAST-MODIFIED:20230531T161702Z
UID:1465-1685786400-1685793600@arisechurchatl.com
SUMMARY:Sunday Service
DESCRIPTION:
URL:https://arisechurchatl.com/event/sunday-service/
CATEGORIES:Sunday Service
END:VEVENT
END:VCALENDAR